Workbook

Sheet UTR
A1: UTREGNINGER
A4: Antall dager kredittid | B4: 1 | D4: Andel mva. salg | F4: 1 | G4: 1
F5: 2 | G5: 0.9
B6: 0 dager | F6: 3 | G6: 0.8
B7: 15 dager | F7: 4 | G7: 0.7
B8: 30 dager | F8: 5 | G8: 0.6
B9: 45 dager | F9: 6 | G9: 0.5
B10: 60 dager | F10: 7 | G10: 0.4
F11: 8 | G11: 0.3
A12: Kredittid kunder | B12: 3 | F12: 9 | G12: 0.2
A13: Krediitid leverandører | B13: 3 | F13: 10 | G13: 0.1
F14: 11 | G14: 0
A16: Spm2 | B16: 2 | C16: =IF(B16=1,"ja","nei") -> nei | G16: 1 | H16: =VLOOKUP(G16,F4:G14,2,FALSE) -> 1
B21: =LB!E17 -> jan | C21: =LB!F17 -> feb | D21: =LB!G17 -> mar | E21: =LB!H17 -> apr | F21: =LB!I17 -> mai | G21: =LB!J17 -> jun | H21: =LB!K17 -> jul | I21: =LB!L17 -> aug | ... M21: =LB!P17 -> des
A22: Trekk | B22: =-LB!E28 -> 0 | C22: =-LB!F28 -> 0 | D22: =-LB!G28 -> 0 | E22: =-LB!H28 -> 0 | F22: =-LB!I28 -> 0 | G22: =-LB!J28 -> 0 | H22: =-LB!K28 -> 0 | I22: =-LB!L28 -> 0 | ... M22: =-LB!P28 -> 0
A23: Ramme | B23: =-LB!X11 -> 0 | C23: =B23 -> 0 | D23: =C23 -> 0 | E23: =D23 -> 0 | F23: =E23 -> 0 | G23: =F23 -> 0 | H23: =G23 -> 0 | I23: =H23 -> 0 | J23: =I23 -> 0 | ... M23: =L23 -> 0
A32: Selskapsform | B32: TRUE | D32: =IF(B32=TRUE,"Aksjeselskap","Enkeltpersonsforetak") -> Aksjeselskap
A37: Årstall
A39: Driftsbudsjett | B39: =LB!C1 -> 2020 | D39: =VLOOKUP(B39,A42:C52,2,FALSE) -> 43770 | E39: =VLOOKUP(B39,A42:C52,3,FALSE) -> 43800
A42: 2020 | B42: 43770 | C42: 43800
A43: 2021 | B43: 44136 | C43: 44166
A44: 2022 | B44: 44501 | C44: 44531
A45: 2023 | B45: 44866 | C45: 44896
A46: 2024 | B46: 45231 | C46: 45261
A47: 2025 | B47: 45597 | C47: 45627
A48: 2026 | B48: 45962 | C48: 45992
A49: 2027 | B49: 46327 | C49: 46357
A50: 2028 | B50: 46692 | C50: 46722
A51: 2029 | B51: 47058 | C51: 47088
A52: 2030 | B52: 47423 | C52: 47453

Sheet LB
B1: Driftsbudsjett | C1: 2020 | E1: Tall i kr. 1.000 | G1: (Med lave beløp kan det lønne seg og ta med en desimal etter punktum.)
V2: Selskapsform: | X2: =UTR!D32 -> Aksjeselskap
B3: Sett inn dine egne tall, fra ditt eget driftsbudsjett eller siste års regnskap. Legg inn tallene på årsbasis først, de blå cellene. Legg også inn kassekreditt
B4: limit og trekk per 01.01 (eller innestående med minus foran). I de grønne cellene kan du overstyre tallene for hver enkelt måned, hvis det ikke er likt gjennom året.
T5: Korrigert | V5: Spørsmål som må besvares:
C6: Årsbudsjett | E6: =UTR!D39 -> 43770 | F6: =UTR!E39 -> 43800 | G6: jan | H6: feb | I6: mar | J6: apr | K6: mai | L6: jun | M6: jul | N6: aug | O6: sep | P6: okt | Q6: nov | R6: des | T6: årsbudsjett
B7: Salgsinntekter | E7: =$C$7/12 -> 0 | F7: =$C$7/12 -> 0 | G7: =$C$7/12 -> 0 | H7: =$C$7/12 -> 0 | I7: =$C$7/12 -> 0 | J7: =$C$7/12 -> 0 | K7: =$C$7/12 -> 0 | L7: =$C$7/12 -> 0 | ... R7: =$C$7/12 -> 0 | T7: =G7+H7+I7+J7+K7+L7+M7+N7+O7+P7+Q7+R7 -> 0 | V7: Kredittid kunder
B8: Varekjøp | E8: =$C$8/12 -> 0 | F8: =$C$8/12 -> 0 | G8: =$C$8/12 -> 0 | H8: =$C$8/12 -> 0 | I8: =$C$8/12 -> 0 | J8: =$C$8/12 -> 0 | K8: =$C$8/12 -> 0 | L8: =$C$8/12 -> 0 | ... R8: =$C$8/12 -> 0 | T8: =G8+H8+I8+J8+K8+L8+M8+N8+O8+P8+Q8+R8 -> 0
B9: Lønnskostnader | G9: =$C$9/12 -> 0 | H9: =$C$9/12 -> 0 | I9: =$C$9/12 -> 0 | J9: =$C$9/12 -> 0 | K9: =$C$9/12 -> 0 | L9: =$C$9/12 -> 0 | M9: =$C$9/12 -> 0 | N9: =$C$9/12 -> 0 | ... R9: =$C$9/12 -> 0 | T9: =G9+H9+I9+J9+K9+L9+M9+N9+O9+P9+Q9+R9 -> 0 | V9: Kredittid leverandører
B10: Driftskostnader | G10: =$C$10/12 -> 0 | H10: =$C$10/12 -> 0 | I10: =$C$10/12 -> 0 | J10: =$C$10/12 -> 0 | K10: =$C$10/12 -> 0 | L10: =$C$10/12 -> 0 | M10: =$C$10/12 -> 0 | N10: =$C$10/12 -> 0 | ... R10: =$C$10/12 -> 0 | T10: =G10+H10+I10+J10+K10+L10+M10+N10+O10+P10+Q10+R10 -> 0
B11: Finansinntekter | G11: =$C$11/12 -> 0 | H11: =$C$11/12 -> 0 | I11: =$C$11/12 -> 0 | J11: =$C$11/12 -> 0 | K11: =$C$11/12 -> 0 | L11: =$C$11/12 -> 0 | M11: =$C$11/12 -> 0 | N11: =$C$11/12 -> 0 | ... R11: =$C$11/12 -> 0 | T11: =G11+H11+I11+J11+K11+L11+M11+N11+O11+P11+Q11+R11 -> 0 | V11: Kassekreditt limit
B12: Finanskostnader | G12: =$C$12/12 -> 0 | H12: =$C$12/12 -> 0 | I12: =$C$12/12 -> 0 | J12: =$C$12/12 -> 0 | K12: =$C$12/12 -> 0 | L12: =$C$12/12 -> 0 | M12: =$C$12/12 -> 0 | N12: =$C$12/12 -> 0 | ... R12: =$C$12/12 -> 0 | T12: =G12+H12+I12+J12+K12+L12+M12+N12+O12+P12+Q12+R12 -> 0 | V12: Trekk på kassekreditt
B13: Skatt | H13: =IF(UTR!B32=TRUE,C13/2,0) -> 0 | I13: =IF(UTR!B32=FALSE,C13/2,0) -> 0 | J13: =IF(UTR!B32=TRUE,C13/2,0) -> 0 | K13: =IF(UTR!B32=FALSE,C13/2,0) -> 0 | T13: =G13+H13+I13+J13+K13+L13+M13+N13+O13+P13+Q13+R13 -> 0
B14: Avdrag | G14: =$C$14/12 -> 0 | H14: =$C$14/12 -> 0 | I14: =$C$14/12 -> 0 | J14: =$C$14/12 -> 0 | K14: =$C$14/12 -> 0 | L14: =$C$14/12 -> 0 | M14: =$C$14/12 -> 0 | N14: =$C$14/12 -> 0 | ... R14: =$C$14/12 -> 0 | T14: =G14+H14+I14+J14+K14+L14+M14+N14+O14+P14+Q14+R14 -> 0 | V14: Andel mva. pliktig salg
B16: Likviditetsbudsjett | E16: =C1 -> 2020 | Q16: Sum | R16: Trekk på kassekreditt
E17: jan | F17: feb | G17: mar | H17: apr | I17: mai | J17: jun | K17: jul | L17: aug | M17: sep | N17: okt | O17: nov | P17: des | Q17: lik.budsjett
B18: Sum salgsinntekter | E18: =IF(UTR!$B$12=1,G7,IF(UTR!$B$12=2,F7/2+G7/2,IF(UTR!$B$12=3,F7,IF(UTR!$B$12=4,F7/2+E7/2,IF(UTR!$B$12=5,E7))))) -> 0 | F18: =IF(UTR!$B$12=1,H7,IF(UTR!$B$12=2,G7/2+H7/2,IF(UTR!$B$12=3,G7,IF(UTR!$B$12=4,G7/2+F7/2,IF(UTR!$B$12=5,F7))))) -> 0 | G18: =IF(UTR!$B$12=1,I7,IF(UTR!$B$12=2,H7/2+I7/2,IF(UTR!$B$12=3,H7,IF(UTR!$B$12=4,H7/2+G7/2,IF(UTR!$B$12=5,G7))))) -> 0 | H18: =IF(UTR!$B$12=1,J7,IF(UTR!$B$12=2,I7/2+J7/2,IF(UTR!$B$12=3,I7,IF(UTR!$B$12=4,I7/2+H7/2,IF(UTR!$B$12=5,H7))))) -> 0 | I18: =IF(UTR!$B$12=1,K7,IF(UTR!$B$12=2,J7/2+K7/2,IF(UTR!$B$12=3,J7,IF(UTR!$B$12=4,J7/2+I7/2,IF(UTR!$B$12=5,I7))))) -> 0 | J18: =IF(UTR!$B$12=1,L7,IF(UTR!$B$12=2,K7/2+L7/2,IF(UTR!$B$12=3,K7,IF(UTR!$B$12=4,K7/2+J7/2,IF(UTR!$B$12=5,J7))))) -> 0 | K18: =IF(UTR!$B$12=1,M7,IF(UTR!$B$12=2,L7/2+M7/2,IF(UTR!$B$12=3,L7,IF(UTR!$B$12=4,L7/2+K7/2,IF(UTR!$B$12=5,K7))))) -> 0 | L18: =IF(UTR!$B$12=1,N7,IF(UTR!$B$12=2,M7/2+N7/2,IF(UTR!$B$12=3,M7,IF(UTR!$B$12=4,M7/2+L7/2,IF(UTR!$B$12=5,L7))))) -> 0 | ... P18: =IF(UTR!$B$12=1,R7,IF(UTR!$B$12=2,Q7/2+R7/2,IF(UTR!$B$12=3,Q7,IF(UTR!$B$12=4,Q7/2+P7/2,IF(UTR!$B$12=5,P7))))) -> 0 | Q18: =SUM(E18:P18) -> 0
B19: Varekjøp | E19: =IF(UTR!$B$13=1,G8,IF(UTR!$B$13=2,F8/2+G8/2,IF(UTR!$B$13=3,F8,IF(UTR!$B$13=4,F8/2+E8/2,IF(UTR!$B$13=5,E8))))) -> 0 | F19: =IF(UTR!$B$13=1,H8,IF(UTR!$B$13=2,G8/2+H8/2,IF(UTR!$B$13=3,G8,IF(UTR!$B$13=4,G8/2+F8/2,IF(UTR!$B$13=5,F8))))) -> 0 | G19: =IF(UTR!$B$13=1,I8,IF(UTR!$B$13=2,H8/2+I8/2,IF(UTR!$B$13=3,H8,IF(UTR!$B$13=4,H8/2+G8/2,IF(UTR!$B$13=5,G8))))) -> 0 | H19: =IF(UTR!$B$13=1,J8,IF(UTR!$B$13=2,I8/2+J8/2,IF(UTR!$B$13=3,I8,IF(UTR!$B$13=4,I8/2+H8/2,IF(UTR!$B$13=5,H8))))) -> 0 | I19: =IF(UTR!$B$13=1,K8,IF(UTR!$B$13=2,J8/2+K8/2,IF(UTR!$B$13=3,J8,IF(UTR!$B$13=4,J8/2+I8/2,IF(UTR!$B$13=5,I8))))) -> 0 | J19: =IF(UTR!$B$13=1,L8,IF(UTR!$B$13=2,K8/2+L8/2,IF(UTR!$B$13=3,K8,IF(UTR!$B$13=4,K8/2+J8/2,IF(UTR!$B$13=5,J8))))) -> 0 | K19: =IF(UTR!$B$13=1,M8,IF(UTR!$B$13=2,L8/2+M8/2,IF(UTR!$B$13=3,L8,IF(UTR!$B$13=4,L8/2+K8/2,IF(UTR!$B$13=5,K8))))) -> 0 | L19: =IF(UTR!$B$13=1,N8,IF(UTR!$B$13=2,M8/2+N8/2,IF(UTR!$B$13=3,M8,IF(UTR!$B$13=4,M8/2+L8/2,IF(UTR!$B$13=5,L8))))) -> 0 | ... P19: =IF(UTR!$B$13=1,R8,IF(UTR!$B$13=2,Q8/2+R8/2,IF(UTR!$B$13=3,Q8,IF(UTR!$B$13=4,Q8/2+P8/2,IF(UTR!$B$13=5,P8))))) -> 0 | Q19: =SUM(E19:P19) -> 0
B20: Lønnskostnader | E20: =G9 -> 0 | F20: =H9 -> 0 | G20: =I9 -> 0 | H20: =J9 -> 0 | I20: =K9 -> 0 | J20: =L9 -> 0 | K20: =M9 -> 0 | L20: =N9 -> 0 | ... P20: =R9 -> 0 | Q20: =SUM(E20:P20) -> 0
B21: Driftskostnader | E21: =G10 -> 0 | F21: =H10 -> 0 | G21: =I10 -> 0 | H21: =J10 -> 0 | I21: =K10 -> 0 | J21: =L10 -> 0 | K21: =M10 -> 0 | L21: =N10 -> 0 | ... P21: =R10 -> 0 | Q21: =SUM(E21:P21) -> 0
B22: Netto finans | E22: =G11-G12 -> 0 | F22: =H11-H12 -> 0 | G22: =I11-I12 -> 0 | H22: =J11-J12 -> 0 | I22: =K11-K12 -> 0 | J22: =L11-L12 -> 0 | K22: =M11-M12 -> 0 | L22: =N11-N12 -> 0 | ... P22: =R11-R12 -> 0 | Q22: =SUM(E22:P22) -> 0
B23: Skatt | F23: =H13 -> 0 | G23: =I13 -> 0 | H23: =J13 -> 0 | I23: =K13 -> 0 | Q23: =SUM(E23:P23) -> 0
B24: Avdrag | E24: =G14 -> 0 | F24: =H14 -> 0 | G24: =I14 -> 0 | H24: =J14 -> 0 | I24: =K14 -> 0 | J24: =L14 -> 0 | K24: =M14 -> 0 | L24: =N14 -> 0 | ... P24: =R14 -> 0 | Q24: =SUM(E24:P24) -> 0
B25: mva-oppgjør | F25: =(E7+F7)*25%*UTR!$H$16-((E8+F8)*25%) -> 0 | H25: =(G7+H7)*25%*UTR!$H$16-((G8+H8)*25%) -> 0 | J25: =(I7+J7)*25%*UTR!$H$16-((I8+J8)*25%) -> 0 | L25: =(K7+L7)*25%*UTR!$H$16-((K8+L8)*25%) -> 0 | N25: =(M7+N7)*25%*UTR!$H$16-((M8+N8)*25%) -> 0 | P25: =(O7+P7)*25%*UTR!$H$16-((O8+P8)*25%) -> 0 | Q25: =SUM(E25:P25) -> 0
B26: Likviditetsendring | E26: =E18-E19-E20-E21+E22-E23-E24-E25 -> 0 | F26: =F18-F19-F20-F21+F22-F23-F24-F25 -> 0 | G26: =G18-G19-G20-G21+G22-G23-G24-G25 -> 0 | H26: =H18-H19-H20-H21+H22-H23-H24-H25 -> 0 | I26: =I18-I19-I20-I21+I22-I23-I24-I25 -> 0 | J26: =J18-J19-J20-J21+J22-J23-J24-J25 -> 0 | K26: =K18-K19-K20-K21+K22-K23-K24-K25 -> 0 | L26: =L18-L19-L20-L21+L22-L23-L24-L25 -> 0 | ... P26: =P18-P19-P20-P21+P22-P23-P24-P25 -> 0
B28: Trekk på kassakreditt | E28: =X12-E26 -> 0 | F28: =E28-F26 -> 0 | G28: =F28-G26 -> 0 | H28: =G28-H26 -> 0 | I28: =H28-I26 -> 0 | J28: =I28-J26 -> 0 | K28: =J28-K26 -> 0 | L28: =K28-L26 -> 0 | M28: =L28-M26 -> 0 | ... P28: =O28-P26 -> 0
